  BEGIN:VCALENDAR
VERSION:2.0
PRODID:TownLively
 //NONSGML Events //EN
CALSCALE:GREGORIAN
X-WR-CALNAME:TownLively
BEGIN:VEVENT
CREATED:20260410T214440Z
UID:953513
DTEND;VALUE=DATE:20260420T152110Z
DTSTART;VALUE=DATE:20260420T152110Z
DTSTAMP:20260420T102110Z
LOCATION:897 N. Twin Valley Rd.\, Elverson PA\, 19520
DESCRIPTION:Anchored Ministries is hosting our biggest community engagement and fu
SUMMARY:Anchored Ministries Food Truck TakeOver
ORGANIZER: 
URL;VALUE=URI:https://townlively.com/events/anchored-ministries-food-truck-takeover/
TRANSP:OPAQUE
BEGIN:VALARM
ACTION:DISPLAY
TRIGGER;VALUE=DATE-TIME:20260420T152110Z
DESCRIPTION:Reminder for Anchored Ministries Food Truck TakeOver
END:VALARM
END:VEVENT
END:VCALENDAR
