  BEGIN:VCALENDAR
VERSION:2.0
PRODID:TownLively
 //NONSGML Events //EN
CALSCALE:GREGORIAN
X-WR-CALNAME:TownLively
BEGIN:VEVENT
CREATED:20260331T165656Z
UID:938116
DTEND;VALUE=DATE:20260420T150549Z
DTSTART;VALUE=DATE:20260420T150549Z
DTSTAMP:20260420T100549Z
LOCATION:1210 Maple Ave Lancaster PA\, 17603
DESCRIPTION:Lancaster Friends School Invites the Community to Celebrate the Season
SUMMARY:Lancaster Friends School Spring Fling Community Celebration
ORGANIZER: 
URL;VALUE=URI:https://townlively.com/events/lancaster-friends-school-spring-fling-community-celebration/
TRANSP:OPAQUE
BEGIN:VALARM
ACTION:DISPLAY
TRIGGER;VALUE=DATE-TIME:20260420T150549Z
DESCRIPTION:Reminder for Lancaster Friends School Spring Fling Community Celebration
END:VALARM
END:VEVENT
END:VCALENDAR
