  BEGIN:VCALENDAR
VERSION:2.0
PRODID:TownLively
 //NONSGML Events //EN
CALSCALE:GREGORIAN
X-WR-CALNAME:TownLively
BEGIN:VEVENT
CREATED:20250812T201946Z
UID:907630
DTEND;VALUE=DATE:20260420T135115Z
DTSTART;VALUE=DATE:20260420T135115Z
DTSTAMP:20260420T085115Z
LOCATION:137 North High Street West Chester PA\, 19380
DESCRIPTION:Lights Up! Holiday Weekends in West Chester Friday, November 28, 2025 
SUMMARY:Lights Up! Holiday Weekends in West Chester
ORGANIZER: 
URL;VALUE=URI:https://townlively.com/events/lights-up-holiday-weekends-in-west-chester/
TRANSP:OPAQUE
BEGIN:VALARM
ACTION:DISPLAY
TRIGGER;VALUE=DATE-TIME:20260420T135115Z
DESCRIPTION:Reminder for Lights Up! Holiday Weekends in West Chester
END:VALARM
END:VEVENT
END:VCALENDAR
