  BEGIN:VCALENDAR
VERSION:2.0
PRODID:TownLively
 //NONSGML Events //EN
CALSCALE:GREGORIAN
X-WR-CALNAME:TownLively
BEGIN:VEVENT
CREATED:20250812T201704Z
UID:907626
DTEND;VALUE=DATE:20260424T215449Z
DTSTART;VALUE=DATE:20260424T215449Z
DTSTAMP:20260424T165449Z
LOCATION:137 North High Street West Chester PA\, 19380
DESCRIPTION:Voted one of USA Todayâ€™s Top Places to See Santa Claus, as well as â
SUMMARY:West Chester Christmas Parade &amp\; Tree Lighting
ORGANIZER: 
URL;VALUE=URI:https://townlively.com/events/west-chester-christmas-parade-tree-lighting/
TRANSP:OPAQUE
BEGIN:VALARM
ACTION:DISPLAY
TRIGGER;VALUE=DATE-TIME:20260424T215449Z
DESCRIPTION:Reminder for West Chester Christmas Parade &amp\; Tree Lighting
END:VALARM
END:VEVENT
END:VCALENDAR
